BEGIN:VCALENDAR
VERSION:2.0
PRODID:Quicksite
NAME:Calendrier
X-WR-CALNAME:Calendrier
REFRESH-INTERVAL;VALUE=DURATION:PT240M
X-PUBLISHED-TTL:PT240M
BEGIN:VEVENT
UID:69e76d6a51f61
SUMMARY:Abbaye de Ropraz
DESCRIPTION:
LOCATION:Place du Village
DTSTART:20260618
DTEND:20260623
DTSTAMP:20260421T094146Z
END:VEVENT
END:VCALENDAR